BEGIN:VCALENDAR
VERSION:2.0
PRODID:-//Töölön Siniset - ECPv6.8.3//NONSGML v1.0//EN
CALSCALE:GREGORIAN
METHOD:PUBLISH
X-WR-CALNAME:Töölön Siniset
X-ORIGINAL-URL:https://toolonsiniset.net
X-WR-CALDESC:Events for Töölön Siniset
REFRESH-INTERVAL;VALUE=DURATION:PT1H
X-Robots-Tag:noindex
X-PUBLISHED-TTL:PT1H
BEGIN:VTIMEZONE
TZID:Europe/Helsinki
BEGIN:DAYLIGHT
TZOFFSETFROM:+0200
TZOFFSETTO:+0300
TZNAME:EEST
DTSTART:20260329T010000
END:DAYLIGHT
BEGIN:STANDARD
TZOFFSETFROM:+0300
TZOFFSETTO:+0200
TZNAME:EET
DTSTART:20261025T010000
END:STANDARD
END:VTIMEZONE
BEGIN:VEVENT
DTSTART;VALUE=DATE:20260515
DTEND;VALUE=DATE:20260518
DTSTAMP:20260418T153446
CREATED:20250819T161034Z
LAST-MODIFIED:20260414T123214Z
UID:1971-1778803200-1779062399@toolonsiniset.net
SUMMARY:Lippukuntaretki
DESCRIPTION:Tösin lippukuntaretki eli kevään paras viikonloppu 15.-17.5.2026
URL:https://toolonsiniset.net/event/lippukuntaretki/
LOCATION:Töölön Sinisten kämppä\, Hummelvikintie 99\, Långvik\, Kirkkonummi
END:VEVENT
END:VCALENDAR