BEGIN:VCALENDAR
VERSION:2.0
PRODID:-//Töölön Siniset - ECPv6.8.3//NONSGML v1.0//EN
CALSCALE:GREGORIAN
METHOD:PUBLISH
X-ORIGINAL-URL:https://toolonsiniset.net
X-WR-CALDESC:Events for Töölön Siniset
REFRESH-INTERVAL;VALUE=DURATION:PT1H
X-Robots-Tag:noindex
X-PUBLISHED-TTL:PT1H
BEGIN:VTIMEZONE
TZID:Europe/Helsinki
BEGIN:DAYLIGHT
TZOFFSETFROM:+0200
TZOFFSETTO:+0300
TZNAME:EEST
DTSTART:20190331T010000
END:DAYLIGHT
BEGIN:STANDARD
TZOFFSETFROM:+0300
TZOFFSETTO:+0200
TZNAME:EET
DTSTART:20191027T010000
END:STANDARD
BEGIN:DAYLIGHT
TZOFFSETFROM:+0200
TZOFFSETTO:+0300
TZNAME:EEST
DTSTART:20200329T010000
END:DAYLIGHT
BEGIN:STANDARD
TZOFFSETFROM:+0300
TZOFFSETTO:+0200
TZNAME:EET
DTSTART:20201025T010000
END:STANDARD
END:VTIMEZONE
BEGIN:VEVENT
DTSTART;VALUE=DATE:20200728
DTEND;VALUE=DATE:20200804
DTSTAMP:20260421T184045
CREATED:20200107T121436Z
LAST-MODIFIED:20200504T130545Z
UID:1373-1595894400-1596499199@toolonsiniset.net
SUMMARY:Kesäleiri Kööri 2020 - PERUTTU
DESCRIPTION:Tämän vuoden kesäleiri vietetään yhdessä kaikkien Keski-Helsingin lippukuntien kanssa alueleirin merkeissä. \nTietoja leiristä\nKööri järjestetään Kavalahden leirintäalueella Inkoossa! Leirin ajankohta on aikavälillä 28.7-3.8.2020. \nPitkä leiri\, joka on suunnattu aikuisille ja nuorille\, on aikavälillä 28.7-3.8.2020. \nLyhyt leiri\, joka on suunnattu sudenpennuille ja kolkille\, on aikavälillä  28.7-31.7.2020. \nRakennusleiri on 27.7.2020 ja purkuleiri 4.8.2020. \nLisäksi Köörille järjestetään vierailupäivä 31.7.2020\, jonne kaikki tutut ja perheenjäsenet ovat tervetulleita. \nIlmoittautuminen ja hinnat\nIlmoittautuminen Köörille alkaa 1.2.2020 ja jatkuu aina 31.3.2020 asti. \nLeirin hinnat: \n\nLyhyt leiri: 100€\nPitkä leiri: 150€ (pestissä toimiville johtajille 100€)\npäivä hinta: 25€/vrk\n\nIlmoittautumisohjeet \nLisää tietoa\nKaikki oleellinen tieto leiristä ja ajankohtaisista asioista on koottu leirin omille kotisivuille: koori2020.fi
URL:https://toolonsiniset.net/event/kesaleiri-koori-2020/
END:VEVENT
BEGIN:VEVENT
DTSTART;VALUE=DATE:20200403
DTEND;VALUE=DATE:20200406
DTSTAMP:20260421T184045
CREATED:20200113T203340Z
LAST-MODIFIED:20200312T183522Z
UID:1375-1585872000-1586131199@toolonsiniset.net
SUMMARY:Kevään lippukuntaretki - PERUTTU
DESCRIPTION:TIEDOTE 12.3.2020\nKevään lippukuntaretki on peruttu koronaviruksen leviämisen ehkäisemiseksi. Jo maksetut retkimaksut palautetaan. \n  \nLumien sulaessa tuntee kevään saapumisen jo luissaan. Ja kun kevät tulee niin tulee myös perinteinen Töölön Sinisten perinteinen lippukuntaretki. Retken teemana on tänä vuonna Villi länsi. Retki suuntautuu eräkämppämme maastoon Kirkkonummen Långvikiin. Luvassa mm. erätaitojen opettelua ja paljon muuta mukavaa. \nRetkelle ovat tervetulleita kaikki lippukunnan seikkailijat ja sitä vanhemmat. Sudenpennuille järjestetään oma retkensä 24.4. – 26.4. \nAjankohta: 3.4 – 5.4.2020. \nSijainti: Hummelvikintie 99\, 02450 Jorvas (Kirkkonummi) \nLähtö ja paluu\nLähtö: Kokoontuminen Rautatieasemalla U-junien laiturilla klo 16:00. \nPaluu: Poistuminen retkeltä tapahtuu kimppakyydein sunnuntaina klo 14:00. Ilmoittakaa ilmoittautumisen yhteydessä\, mikäli pääsette hakemaan retkeilijöitä kämpältämme. \nIlmoittautuminen ja retkimaksu\nIlmoittautumisen voit tehdä täällä. Ilmoittaudu viimeistään 27.3.  \nRetken hinta on 15 euroa ja se maksetaan Holvi-verkkokaupassa täältä. \nMukaan tarvitset: \n\nRinkka tai iso reppu\nPartiohuivi\nLämmin makuupussi ja makuualusta\nKompassi\nPuukko\nTaskulamppu ja varaparistot\nSaunakamat\nHammasharja ja -tahna sekä muu henkilökohtainen hygienia\nMahdolliset lääkkeet\nMuistiinpanovälineet (kynä\, paperivihko)\nRuokailuvälineet kangaspussissa\nLämpimät ulkoiluvaatteet\nSateenkestävät vaatteet\nVaihtovaatteita\nPäälle säänmukainen vaatetus\nRannekello\nPaljon partiomieltä!\n\nMukaan ET tarvitse:  \n\nKännykkää (johtajilla on hätätapauksia varten)\nKäärepaperillisia karkkeja (muutenkin karkkia kohtuudella)\n\nLisätietoa voi kysyä retkenjohtajalta: \nVeeti Haapalehto\, 044 242 6590\, veeti.haapalehto@toolonsiniset.net
URL:https://toolonsiniset.net/event/lippukuntaretki-19k/
LOCATION:Töölön Sinisten kämppä\, Hummelvikintie 99\, Långvik\, Kirkkonummi
END:VEVENT
BEGIN:VEVENT
DTSTART;VALUE=DATE:20200102
DTEND;VALUE=DATE:20200106
DTSTAMP:20260421T184045
CREATED:20191007T082022Z
LAST-MODIFIED:20191208T163510Z
UID:1298-1577923200-1578268799@toolonsiniset.net
SUMMARY:Talvileiri EDDA 2020
DESCRIPTION:Tervetuloa mukaan Hesparton ja Töölön Sinisten talvileirille\, joka aloittaa uuden partiovuosikymmenen! Leiri pidetään Lärkansissa 2.-5.1.2020. Leirille voivat osallistua toisen vuoden seikkailijat (5.lk) ja sitä vanhemmat partiolaiset. \nIlmoittautuminen ja leirimaksu\nTalvileirille ilmoittaudutaan oheisen Kuksa-linkin kautta 15.12.2019 mennessä. Alle 18-vuotiaat tulee ilmoittaa tapahtumaan huoltajan tunnuksilla. Ilmoittautua voit täältä. \nLeirin hinta on 80€. Maksu suoritetaan ostamalla leirimaksu Hesparton Holvi-verkkokaupasta\, jonka löydät täältä. Tämän tapahtuman osallistumismaksutuotteen nimi on Talvileiri 2020. Muistathan kirjata maksun yhteyteen tiedon siitä\, kenen osallistumismaksusta on kyse (etu- ja sukunimi). Pelkkä maksu ei riitä ilmoittautumiseksi\, muistathan siis ilmoittautua myös Kuksassa. Maksutosite tulee esittää tapahtuman lähdössä. \nLeirimaksuun voi tarvittaessa hakea avustusta lippukunnalta. Ohjeet avustuksen hakemiseen löytyvät täältä. \nToinen leirikirje ja yhteystiedot\nToinen leirikirje lähetetään ilmoittautuneille sähköpostitse ilmoittautumisen päätyttyä. Leiriä koskevissa kysymyksissä voitte olla yhteydessä oman ryhmän johtajiin tai suoraan leirinjohtoon. \nLeirinjohtajat\nKaisa “Tonttu” Mikkelä\nkaisa.mikkela@hespartto.fi\n050 4680596 \nLiina Laukkanen\nliina.laukkanen@hespartto.fi\n045 2321108
URL:https://toolonsiniset.net/event/talvileiri-20/
ORGANIZER;CN="Kaisa 'Tonttu' Mikkel%C3%A4":MAILTO:kaisa.mikkela@hespartto.fi
END:VEVENT
BEGIN:VEVENT
DTSTART;TZID=Europe/Helsinki:20191215T120000
DTEND;TZID=Europe/Helsinki:20191215T153000
DTSTAMP:20260421T184045
CREATED:20191127T145651Z
LAST-MODIFIED:20191127T151636Z
UID:1315-1576411200-1576423800@toolonsiniset.net
SUMMARY:Partiokirkko ja joulujuhla
DESCRIPTION:Tervetuloa Töölön Sinisten ja Hesparton perinteiseen partiokirkkoon ja joulujuhlaan sunnuntaina 15.12.2019! \nOn jälleen aika kokoontua yhteen juhlistamaan kulunutta syyskautta ja nauttimaan joulutunnelmasta. Luvassa on hauskaa ohjelmaa\, hyvää seuraa ja mitä herkullisinta puuroa. Tulkaa paikalle vaikka koko perheen voimin! \nPartiokirkko\nPartiokirkko alkaa klo 12.00 Töölön kirkossa\, mutta paikalle kannattaa tulla hieman aikaisemmin. Kirkossa partiolupauksen antavat Tösin ja Hesparton sudenpennut sekä Tösin seikkailijat. \nPukukoodina on partiopaita ja -huivi. \nJoulujuhla\nJoulujuhla pidetään noin klo 13.30-15.30 Taivallahden peruskoulun ylärakennuksessa (Väinämöisenkatu 2). Juhlassa Hesparton seikkailijat antavat partiolupauksensa ja ansioituneille partiolaisille jaetaan merkkejä ja muita palkintoja. Jotta voit nauttia makoisan puuron lisäksi myös puffetin herkullisista antimista\, kannattaa mukaan varata vähän käteistä! Lisäksi maksetut OEK-laulukirjat voi noutaa juhlasta.
URL:https://toolonsiniset.net/event/partiokirkko-ja-joulujuhla-19/
END:VEVENT
BEGIN:VEVENT
DTSTART;VALUE=DATE:20191030
DTEND;VALUE=DATE:20191118
DTSTAMP:20260421T184045
CREATED:20191030T115522Z
LAST-MODIFIED:20191030T115522Z
UID:1300-1572393600-1574035199@toolonsiniset.net
SUMMARY:Tilaa partiolaisten laulukirja
DESCRIPTION:Hei \nOEK-laulukirjoja on jälleen tilattavissa! Töölön Siniset ja Hespartto täydentävät laulukirjavarastoaan\, ja nyt myös sinulla on mahdollisuus ostaa oma kappaleesi. \nOEK-laulukirja on Suomen myydyin partiolaulukirja ja Suomen Partiolaisten virallinen laulukirja. Se on noussut Töölön Sinisten ja Hesparton keskuudessa suureen suosioon ja sinistä laulukirjaa käytetään yleensä aina\, kun retkelle saadaan kitara mukaan. Omasta kirjasta voi lauluja harjoitella kotonakin\, ja siihen voi vapaasti merkata vaikka omat lempparinsa. \nVuoden 2016 versiossa mukana ovat muun muassa iltanuotioiden vakiobiiseiksi nousseet Mandoliinimies\, Puolalainen nuotiolaulu ja Mamma Mia sekä myös uudempia lauluja\, kuten Let it go ja Frontside ollie. \nLaulukirjan tilaaminen tapahtuu Töölön Sinisten Holvi-verkkokaupan kautta osoitteessa holvi.com/shop/toolonsiniset\, josta kirjan voi ostaa 17.11. mennessä. Kirjan hinta on 14 e. Teemme yhteistilauksen marraskuun loppupuolella\, ja tuotteiden saavuttua kirjan saa omalta ryhmänjohtajalta taikka yhteisessä joulujuhlassamme.
URL:https://toolonsiniset.net/event/tilaa-partiolaisten-laulukirja/
ORGANIZER;CN="Otto Hyyti%C3%A4l%C3%A4":MAILTO:otto.hyytiala@toolonsiniset.net
END:VEVENT
BEGIN:VEVENT
DTSTART;VALUE=DATE:20191025
DTEND;VALUE=DATE:20191028
DTSTAMP:20260421T184045
CREATED:20190815T073037Z
LAST-MODIFIED:20190930T185244Z
UID:1149-1571961600-1572220799@toolonsiniset.net
SUMMARY:Lippukuntaretki
DESCRIPTION:Syksyllä Töölön Siniset retkeilee kämpällä sopivasti hyytävissä Halloween tunnelmissa. Tervetuloa mukaan! \nPaikka: Tösin yliluonnollisen luonnollinen kämppä (Hummelvikintie 99\, Kirkkonummi) \nLähtö ja paluu\nLähtö: perjantai 25.10. klo. 15:45 Helsingin Päärautatieasemalta raiteen 14 läheisyydestä – juna U lähtee sieltäpäin \nPaluu: su 27.10. noin klo. 13. Paluu tapahtuu kimppakyydeillä\, eli vanhempien apua tarvitaan. \nIlmoittautuminen ja retkimaksu\nIlmoittautumisen voit tehdä täällä. Ilmoittaudu viimeistään 21.10.  \nRetken hinta on 14 euroa ja se maksetaan Holvi-verkkokaupassa täältä. \nMukaan tarvitset: \n\nRinkka tai iso reppu\nPartiohuivi\nLämmin makuupussi ja makuualusta\nKompassi\nPuukko\nTaskulamppu ja varaparistot\nSaunakamat\nHammasharja ja -tahna sekä muu henkilökohtainen hygienia\nMahdolliset lääkkeet\nMuistiinpanovälineet (kynä\, paperivihko)\nRuokailuvälineet kangaspussissa\nLämpimät ulkoiluvaatteet\nSateenkestävät vaatteet\nVaihtovaatteita\nPäälle säänmukainen vaatetus\nRannekello \nPaljon partiomieltä! \n\nMukaan ET tarvitse:  \n\nKännykkää (johtajilla on hätätapauksia varten)\nKäärepaperillisia karkkeja (muutenkin karkkia kohtuudella) \n\nLisätietoa voi kysyä retkenjohtajalta:  \nJaime Heikkilä Dias\, 040 1313031\, jaime.heikkiladias@toolonsiniset.net
URL:https://toolonsiniset.net/event/lippukuntaretki-19/
LOCATION:Töölön Sinisten kämppä\, Hummelvikintie 99\, Långvik\, Kirkkonummi
ORGANIZER;CN="Jaime Heikkil%C3%A4 Dias":MAILTO:jaime.heikkiladias@toolonsiniset.net
END:VEVENT
BEGIN:VEVENT
DTSTART;TZID=Europe/Helsinki:20190813T180000
DTEND;TZID=Europe/Helsinki:20190813T200000
DTSTAMP:20260421T184045
CREATED:20190616T153914Z
LAST-MODIFIED:20190806T131001Z
UID:1119-1565719200-1565726400@toolonsiniset.net
SUMMARY:Syyskauden avajaiset
DESCRIPTION:Töölön Sinisten perinteiset syyskauden avajaiset järjestetään 13.8. klo 18 alkaen. Tänä vuonna avajaiset järjestetään kokoustilojemme viereisessä puistossa osoitteessa Töölönkatu 34. Huonon sään sattuessa pidämme avajaiset kokoustiloissamme. Tervetuloa paikalle vaikka koko perheen voimin näkemään partiokavereita ja tapaamaan lippukunnan johtajia.
URL:https://toolonsiniset.net/event/syyskauden-avajaiset/
LOCATION:Kolo\, Töölönkatu 34\, Helsinki
END:VEVENT
BEGIN:VEVENT
DTSTART;VALUE=DATE:20190728
DTEND;VALUE=DATE:20190806
DTSTAMP:20260421T184045
CREATED:20190113T202101Z
LAST-MODIFIED:20190718T074135Z
UID:864-1564272000-1565049599@toolonsiniset.net
SUMMARY:Kesäleiri Utopia 1.9
DESCRIPTION:Tervetuloa mukaan Hesparton ja Töölön Sinisten kesäleirille! Leirillä hypätään ajassa eteenpäin ja päästään osaksi tulevaisuuden yhteisöön metsän keskelle! \nLeirikirje\nToinen leirikirje löytyy täältä \nAjankohta ja paikka\nLeiri järjestetään Kymenlaakson partiopiirin leirialueella Saaramaalla. Sudenpennut leireilevät 28.7.-31.7.2019. ja sitä vanhemmat 28.7.-5.8.2019. \nLähtö: su 28.7.2019 klo 9.00 Paavo Nurmen patsaalta.  \nPaluu: Sudenpennut palaavat Paavo Nurmen patsaalle ke 31.7.2019. noin klo 16.00.  \nSeikkailijat\, tarpojat ja samoajat palaavat samaan paikkaan ma 5.8.2019. noin klo 16.00. \nLeirimaksu\nSudenpentujen leiri maksaa 75€ (su-ke). \nSeikkailijoiden ja sitä vanhempien leiri maksaa 120€ (koko leiri). \nSisaralennus on -15€/lapsi (yksi maksaa täyden hinnan\, muista alennus). \nLeirimaksuun voi tarvitessa hakea avustusta. Tarkemmat ohjeet löytyvät sähköpostista tai niitä voi tarvitessa kysyä leirinjohtajalta. \nIlmoittautuminen ja maksaminen\nIlmoittaudu mukaan 13.5.2019. mennessä. Ilmoittautuminen on sähköinen ja se tehdään PartioID-tunnuksilla osoitteessa hyperurl.co/utopia1.9 \nMikäli  Kuksa-tunnusten kanssa on ongelmia\, ota hyvissä ajoin yhteyttä oman lippukuntasi jäsenrekisterivastaavaan. \nMaksa samalla leirimaksu Hesparton tilille FI0310283000307025. Kirjoita viestiksi: ”Kesäleiri 2019 + lapsen etu- ja sukunimi.” Sähköinen ilmoittautuminen on pakollinen\, pelkkä maksu ei riitä ilmoittautumiseksi. \nIlmoittautuminen on sitova. Kaikille leirille ilmoittautuneille lähetetään toinen leirikirje postitse kesäkuun aikana. Leirivalmisteluiden kannalta on tärkeää\, että mahdolliset peruutukset ilmoitetaan heti tiedettäessä\, mieluusti kaksi viikkoa ennen leiriä. Leirimaksua ei palauteta\, mutta jos peruutuksen syynä on leiriläistä kohdannut sairaus tai tapaturma\, on lääkärintodistuksella  mahdollista hakea korvausta leirimaksuun Partiovakuutuksesta. Lisää aiheesta voi lukea osoitteesta: https://www.partio.fi/partiolaiselle/jasenpalvelut/partiovakuutus/ \nAvustus leirimaksuun\nLeirimaksuun on mahdollista hakea avustusta lippukuntien avustusperiaatteiden mukaisesti \nTöölön Siniset\nVapaamuotoisen avustuhakemaksen voi lähettää sähköpostilla osoitteeseen otto.hyytiala@toolonsiniset.net \nHespartto\nHesparton jäsenille on koottu avustushakuohjeet tänne \nYhteystiedot\nAnni Karlsson \nLeirinjohtaja \nanni.karlsson@hespartto.fi / 0451413380
URL:https://toolonsiniset.net/event/kesaleiri-2019/
CATEGORIES:Leiri
ORGANIZER;CN="Anni Karlsson":MAILTO:anni.karlsson@hespartto.fi
END:VEVENT
BEGIN:VEVENT
DTSTART;VALUE=DATE:20190615
DTEND;VALUE=DATE:20190616
DTSTAMP:20260421T184045
CREATED:20190616T114436Z
LAST-MODIFIED:20190616T114436Z
UID:1115-1560556800-1560643199@toolonsiniset.net
SUMMARY:Kämppä 10 v
DESCRIPTION:Kesällä 2019 tulee kuluneeksi kunnioitettavat kymmenen vuotta uljaan eräkämppämme valmistumisesta. Näiden kymmenen vuoden aikana Metsäkolomme on tullut korvaamattomaksi osaksi Töölön Sinisten ja Hesparton toimintaa\, ja sen ympärille on muodostunut monenlaisia perinteitä ja projekteja. Myös muut lippukunnat ovat löytäneet kämppämme\, ja monet haluavatkin palata sinne retkeilemään vuosi toisensa jälkeen. \nKymmenen vuoden iän saavuttaminen antaa hyvän syyn juhlia ainutlaatuista kämppäämme. Haluamme kutsua kaikki kämppämieliset mukaan paikan päällä pidettäviin juhlallisuuksiin lauantaina 15.6.2019. \nSaapuminen ja poistuminen\nJuhlapäivänä olemme järjestäneet vieraille bussikuljetuksen Helsingistä\, Paavo Nurmen patsaalta\, porrastetusti klo 11:00 ja 11:15. Perillä kämpällä parkkitilaa on hyvin vähän\, joten toivomme\, että lähtökohtaisesti kaikki saapuisivat bussikuljetuksella. Mikäli sinulla on kuitenkin erityistarpeita kuljetuksen suhteen\, olethan yhteydessä Tilli Pesolaan (yhteystiedot alla). \nJuhlan jälkeen poistumiseen on kaksi eri bussivaihtoehtoa\, joilla pääset takaisin Paavo Nurmen patsaalle. Paluukuljetukset lähtevät klo 15:30 ja klo 19. Myöhempi kuljetus on tarkoitettu niille\, jotka haluavat jäädä kämpälle saunomaan ja viettämään aikaa yhdessä. \nJuhlapäivän kulku\n\n\n\n11.00\nEnsimmäinen bussikuljetus lähtee Paavo Nurmen patsaalta\n\n\n11.15\nToinen bussikuljetus lähtee Paavo Nurmen patsaalta\n\n\n12.00\nLipunnosto ja avajaissanat\n\n\n12.15\nOhjelmaa ja juhlapuheita\n\n\n14.00\nKeittolounas\, pullakahvit ja vapaa kiertely\n\n\n15.30\nEnsimmäinen paluukuljetus lähtee kämpältä\n\n\n16.00\nSauna ja nuotio\n\n\n19.00\nToinen paluukuljetus lähtee kämpältä\n\n\n\nMitä mukaan\nVirallisen osuuden jälkeen tarjolla olevaa keittolounasta ja pullakahveja varten tarvitset syvän lautasen\, mukin ja lusikan. Halutessasi voit ottaa myös istuinalustan. Asu on vapaa\, partiohuivi toivottava. \nMikäli lähdet jälkimmäisellä bussikuljetuksella\, varaa mukaasi myös haarukka ja veitsi sekä halutessasi pyyhe ja pefletti. Talo tarjoaa saunojille biohajoavat pesuaineet. \nIlmoittautuminen\nJuhla on osallistujille maksuton. Ilmoittautuminen tapahtuu sähköisellä lomakkeella\, joka sulkeutuu 31.5. Ilmoitathan mahdollisesta osallistumisesi peruuntumisesta Tillille\, jotta bussi ei jää turhaan odottamaan sinua juhlapäivänä! \nLämpimästi tervetuloa! \nMikäli sinulla on kysymyksiä\, voit olla yhteydessä Tilli Pesolaan (tilli.pesola@toolonsiniset.net\, p. 050 543 01 48 ).
URL:https://toolonsiniset.net/event/kamppa-10-v/
END:VEVENT
BEGIN:VEVENT
DTSTART;VALUE=DATE:20190518
DTEND;VALUE=DATE:20190520
DTSTAMP:20260421T184045
CREATED:20190502T100156Z
LAST-MODIFIED:20190502T100317Z
UID:1072-1558137600-1558310399@toolonsiniset.net
SUMMARY:Sepeli 2019
DESCRIPTION:Tervetuloa Hesparton ja Töölön Sinisten seikkailijoiden vuoden\npäätösretkelle Nuuksioon! Luvassa on intiaaniteemainen seikkailijapeli\,\njossa vaelletaan\, suoritetaan tehtäviä ja maastopelataan ja leiriydytään\nteltassa. \nLähtö: La 18.5. klo. 08:20 Rautatieaseman laiturilla 17\nPaluu: su 19.5. noin klo 12:15 Samaan paikkaan \nIlmoittautuminen ja maksuohjeet\nIlmoittautuminen tapahtuu oheisen linkin kautta: https://kuksa.partio.fi/Kotisivut/login.aspx?Id=20325 10.5. mennessä. Palautathan lisäksi myös alla olevan ilmoittautumislapun viimeistään lähtöön. \nTapahtuman hinta on 20€ Maksu maksetaan Hesparton tilille:\nFI0310283000307025\, viestiksi ” Sepeli19\, Lapsen Nimi”. Pelkkä\nretkimaksu ei käy ilmoittautumisesta\, vaan on ilmoittauduttava myös\nsähköisesti. Lisäksi valmistaudu esittämään maksutosite\n(esim.kuvakaappaus) retken lähdössä.\nLisätietoja saa omalta johtajalta tai Laura Grönlundilta\nlaura.gronlund@hespartto.fi \nVarustelista\nHuomioithan\, että varusteita kannetaan koko päivä mukana.\nPakkaa kaikki siis vesitiiviisti isoon rinkkaan \, niin että rinkan\nulkopuolelle jää enintään makuualusta. Muista jättää tilaa myös vartioiden\nyhteisille tavaroille.\n❏ 2 jätesäkkiä\, joihin oma rinkka mahtuu sisään\n❏ partiohuivi\n❏ rinkka\n❏ rinkan sadesuoja/ jätesäkki\n❏ lämmin makuupussi\n❏ makuualusta\n❏ sadevaatteet\n❏ ulkoiluvaatteet\n❏ hyvät ulkoilukengät\n❏ pipo\,hanskat ja kaulahuivi\n❏ villasukat\n❏ villapaita\n❏ lämmin aluskerrasto\n❏ alusvaatteita\n❏ yövaatteet\n❏ puukko\n❏ tulitikut\n❏ kompassi\n❏ taskulamppu ja varaparistot\n❏ muistiinpanovälineet\n❏ ruokailuvälineet\n❏ juomapullo täytettynä\n❏ henkilökohtaiset hygieniatarvikkeet\n❏ aurinkorasva\n❏ laastareita\n❏ kello\n❏ kännykän voi ottaa mukaan\, mutta se säilytetään pois\npäältä\,vedenpitävässä pussissa rinkassa ja avataan vain hätätilanteissa.
URL:https://toolonsiniset.net/event/sepeli19/
ORGANIZER;CN="Laura Gr%C3%B6nlund":MAILTO:laura.gronlund@hespartto.fi
END:VEVENT
BEGIN:VEVENT
DTSTART;VALUE=DATE:20190504
DTEND;VALUE=DATE:20190506
DTSTAMP:20260421T184045
CREATED:20190404T131151Z
LAST-MODIFIED:20190404T131340Z
UID:1025-1556928000-1557100799@toolonsiniset.net
SUMMARY:Turun partioparaati
DESCRIPTION:Hespartto ja Töölön Siniset osallistuvat tänä vuonna Turussa järjestettävään LSP:n partioparaatiin. Lauantaina vierailemme Turun partiomuseoon ja tutustumme kaupunkiin\, ja sunnuntaina pääsemme marssimaan paraatissa.Yöpyminen tapahtuu kahdessa eri paikassa\, koska emme mahdu kaikki samaan paikkaan. Hespartto yöpyy Turun Metsänkävijöiden kololla\, ja Tösi yöpyy Turun Partio-Sissien kololla. Mukaan tervetulleita ovat kaikki seikkailijat ja sitä vanhemmat lippukuntalaiset! \nLähtö ja paluu\nLähtö: lauantaiaamuna 4.5 . Kampin kaukobussiterminaalista 10:30 \nPaluu: sunnuntai-ilta 5.5. Kisahallin taakse parkkipaikalle n. klo 19 \nIlmoittautuminen\nkuksassa linkin kautta viimeistään pe 19.4. \nhttps://kuksa.partio.fi/Kotisivut/login.aspx?Id=27113 \nTapahtuman hinta: Osallistumismaksu 25€/hlö maksetaan\nTöölön Sinisten tilille FI96 8000 2037 0307 55 .\nViestiksi Turun paraati 2019 + osallistujan nimi. \nMitä mukaan\nParaatissa pukeudutaan partioasuun\, joten tarvitset ehdottomasti mukaasi partiohuivin ja\n-paidan \, sekä siistin mustan/tummansinisen alaosan ja siistit tummat kengät. Lisäksi\nmukaan voi halutessaan ottaa partiovyön. Varaa mukaasi myös lämmintä vaatetta\npartioasun alle\, sillä paraatissa saattaa olla koleaa ja tuulista.\nJos lapsella ei ole partiopaitaa\, voi sitä tiedustella oman ryhmän johtajan kautta lainaan. \nPartioasun lisäksi tarvitset:\n● maksutosite\n● makuupussi ja -alusta\n● säähän sopivat vaatteet (liikumme ulkona lauantaina)\n● yöpuku\n● hygieniatarvikkeet (hammasharja ja -tahna\, henk. koht lääkkeet jne.)\n● muistiinpanovälineet\n● juomapullo\n● halutessasi hieman käyttörahaa\n● halutessasi puhelin (partiovakuutus ei korvaa hajonnutta tai kadonnutta puhelinta)\n● Hespartot: hiusharja ja kaksi ponnaria\n● Tösit: ruokailuvälineet \nNähdään paraatissa! \nT. tapahtuman johtajat \nTösi: Filip Eller\nfilip.eller@partio.fi\npuh. 040 5181702 \nHespartto: Rebekka ”Raksu” Kanerva\nrebekka.kanerva@gmail.com\npuh. 040 575 2669
URL:https://toolonsiniset.net/event/turun-partioparaati-19/
ORGANIZER;CN="Filip Eller":MAILTO:filip.eller@partio.fi
END:VEVENT
BEGIN:VEVENT
DTSTART;VALUE=DATE:20190412
DTEND;VALUE=DATE:20190415
DTSTAMP:20260421T184045
CREATED:20190321T140826Z
LAST-MODIFIED:20190321T140826Z
UID:982-1555027200-1555286399@toolonsiniset.net
SUMMARY:Sudenpenturetki
DESCRIPTION:Sudenpentujen ihka oma retki Långvikin kämpälle lähestyy jälleen! Tänä keväänä teemana on rakentelu; sudareilla on mahdollisuus päästä nikkaroimaan\, maalailemaan ja harjoittelemaan eri työkalujen käyttöä muun perinteisen retki-ohjelman lomassa. Retki on tarkoitettu kaikille Hesparton ja Tösin sudenpennuille. \n  \nLähtö: pe 12.4 klo 16:00 Rautatieasemalta \nPaluu: su 14.4 klo 14:00 alkaen saa hakea kämpältä\, paluu tapahtuu kimppakyydein! \n  \nIlmoittaudu mukaan 31.3. mennessä sähköisen ilmoittautumislinkin kautta: https://kuksa.partio.fi/Kotisivut/login.aspx?Id=26598. Muista liittää ilmoittautumiseen mahdolliset tiedot erityisruokavaliosta ja allergioista\, sekä kyyditsemiseen liittyvät tiedot (voitko hakea lapsesi ja mahdollisesti muita lapsia/tarvitseeko lapsenne kyydin jne.). Huomioithan\, että annamme yhteystietosi eteenpäin\, mikäli lapsesi palaa sunnuntaina jonkun muun kyydillä kämpältä\, jotta kotiinpaluu sujuisi kätevästi. Ilmoittautuminen on sitova\, eikä retkimaksua palauteta ilman lääkärintodistusta\, mikäli peruminen tapahtuu ilmoittautumisajan päätyttyä.  \n  \nHelpoiten ilmoittautuminen sujuu näin:  \n\n Kirjaudu ensin Kuksaan partio-ID tunnuksilla tai luo uudet tunnukset tai ilmoittaudu EVP-kohdasta. Ongelmatilanteissa otathan yhteyttä jäsenrekisterivastaavaan sähköpostilla; sallav.mattila@gmail.com (Hespartto) tai jasenrekisteri@toolonsiniset.net (Tösi). \nAvaa toisessa välilehdessä yllä mainittu linkki. Tällöin pitäisi avautua suoraan ilmoittautumissivu\, jossa lippukuntalaisen tiedot ovat jo valmiina. HUOM! Mikäli Kuksa-tunnuksen luominen ei onnistu tai lapsesi ei vielä ole Kuksassa\, paina “Jos et ole partiolainen\, ilmoittaudu tapahtumaan tästä”. \nMaksa samalla retkimaksu 20€ Hesparton tilille: FI03 1028 3000 3070 25. Kirjoita viestikenttään “Sudenpentujen retki kevät 2019 + osallistujan nimi”.\nLähtöpäivänä jokaisella on oltava mukanaan tulostettu maksutosite retkimaksusta sekä Kuksasta tulostettu vuoden 2019 SP:n jäsenkortti.  Lisätietoja voi kysellä retkenjohtaja Kukka Ylianttilalta; kukkay@gmail.com\, 0406854544\n\nSudenpentujen olisi hyvä pakata itse. Vanhempi voi valvoa vieressä ja esim. nimikoida tavarat. Muistathan nimikoida kaikki tavarat ja pakata ne muovipusseihin\, jotta ne ovat helpommin löydettävissä\, eivätkä kastu. \n  \nMukaan retkelle tarvitset: \no Rinkka tai iso reppu\, ei irtonyssyköitä. \no Maksutosite retkestä\, lupalappu & SP:n jäsenkortti \no Partiohuivi (kaulaan) \no Lämmin makuupussi\, yöpuku ja halutessasi unilelu \no Makuualusta \no Aluslakana (sudenpennut) \no Säänmukaiset ja lämpimät ulkoiluvaatteet \no Säänmukaiset ja lämpimät ulkoilujalkineet \no Riittävästi vaihtovaatteita \no Vaatteet\, jotka saavat likaantua (maalaamista varten) \no Vaihtosukkia \no Alusvaatteita \no Villasukkia kaksi paria \no Pipo ja kaulahuivi \no Lämpimiä käsineitä kolme paria \no Juomapullo \no Hammasharja & -tahna\, sekä mahdolliset henkilökohtaiset lääkkeet \no Harja ja muutama ponnari pitkähiuksisille \no Pyyhe ja muut saunomiseen tarvittavat kamat (ei tarvitse omia saippuoita!) \no Kompassi\, puukko sekä taskulamppu varaparistoineen \no Muistiinpanovälineet \nHalutessasi voit pakata myös: \no OEK–laulukirja \no Karkkia tai muuta naposteltavaa (kohtuudella) \nMukaan ET tarvitse: \no Puhelinta (johtajilta löytyy tarvittaessa) \no Käärepaperillisia karkkeja \n 
URL:https://toolonsiniset.net/event/srk19/
LOCATION:Töölön Sinisten kämppä\, Hummelvikintie 99\, Långvik\, Kirkkonummi
ORGANIZER;CN="Kukka Ylianttiila":MAILTO:kukkay@gmail.com
END:VEVENT
BEGIN:VEVENT
DTSTART;VALUE=DATE:20190405
DTEND;VALUE=DATE:20190408
DTSTAMP:20260421T184045
CREATED:20190220T091328Z
LAST-MODIFIED:20190318T093315Z
UID:951-1554422400-1554681599@toolonsiniset.net
SUMMARY:Kevään lippukuntaretki
DESCRIPTION:Tänä keväänä Tösit suuntaavat perinteiselle kevään lippukuntaretkelleen rock musiikin tahdissa. Tule mukaan\, ja näe miten Långvikin alueesta syntyy uusi rock-musiikin pyhättö. Oletko siis valmis osallistumaan retkelle\, missä perinteinen Tösi meininki kohtaa rock musiikkia Elviksestä Nirvanaan? \nRetkelle ovat tervetulleita kaikki lippukunnan seikkailijat ja sitä vanhemmat. Sudenpennuille järjestetään oma retkensä 12.4. – 14.4. \nLähtö ja paluu\nLähtö: 5.4. klo 16:00 Rautatieaseman lähijuna laitureilta. \nPaluu: 7.4 vanhempien kyydeillä n. klo 14. Ilmoittautuessa mainitse mahdollisuus autolla hakuun. Jos autokyytejä ei saada tarpeeksi\, vaikeuttaa se retken järjestelyjä huomattavasti. \nMitä mukaan\n\nRinkka tai iso reppu\nPartiohuivi\n Lämmin makuupussi ja makuualusta\n Kompassi\n Puukko\n Taskulamppu + varaparistot\n Saunakamat (pyyhe\, saippua)\n Hammasharja + -tahna + henk. koht. lääkkeet\n Muistiinpanovälineet (kynä\, paperi)\n Ruokailuvälineet kangaspussissa\n Lämpimät ulkoiluvaatteet\n Sadevaatteet\n Vaihtovaatteet\n Säänmukainen vaatetus päälle\n Rannekello\n Paljon partiomieltä!\n\nMukaan ET tarvitse: \n\n Kännykkää (johtajilla on hätätapauksia varten)\n Käärepaperillisia karkkeja (muutenkin karkkia kohtuudella)\n\nRetkenjohtaja\nJames Pye \njames.pye@toolonsiniset.net \n 0405919927 \nIlmoittautuminen retkelle:\n1. Ilmoittautuminen kuksassa\nIlmoittautumaan \n2. Retkimaksun maksaminen
URL:https://toolonsiniset.net/event/lpkrk19/
END:VEVENT
BEGIN:VEVENT
DTSTART;VALUE=DATE:20190102
DTEND;VALUE=DATE:20190106
DTSTAMP:20260421T184045
CREATED:20181230T185544Z
LAST-MODIFIED:20190113T203615Z
UID:690-1546387200-1546732799@toolonsiniset.net
SUMMARY:Talvileiri MS Töspartto
DESCRIPTION:Kutsumme sinut mukaan Hesparton ja Töölön Sinisten vuoden 2019 talvileirille Sahalahden rantasaunalle 2.1.2019 – 5.1.2019. Leirille voivat osallistua toisen vuoden seikkailijat ja sitä vanhemmat partiolaiset. \nLähtö ja paluu\nLähtö tapahtuu 2.1. klo 9:00 Paavo Nurmen patsaalta. Saavuthan paikalle ajoissa.\nLeiriläiset palaavat Paavo Nurmen patsaalle 5.1. noin klo 16. \nVarustelista\nKaikki tavarat sukista lusikoihin on nimikoitava. Leiriläinen pakkaa itse\nrinkkansa\, jotta hän itse tietää\, mitä hänellä on mukana\, ja missä tavarat sijaitsevat. \n– Rinkka ja rinkan sadesuoja sekä halutessasi pienempi päiväreppu haikkia varten\n– Talvilämpötiloihin soveltuva makuupussi ja makuualusta\n– Partiohuivi ja -paita\n– Kompassi\n– Puukko\n– Tulitikut vedenpitävästi pakattuna\n– Otsalamppu ja varaparistot\n– Muistiinpanovälineet\n– Halpa rannekello\n– Retkiruokailuvälineet (muoviset/metalliset) kangaspussissa\n– Juomapullo\n– Henkilökohtaiset hygieniavälineet\, kuten hammasharja\n– Pyyhe\, pesuaineet ja muut saunakamat\n– Pitkähiuksisille harja ja muutama hiuslenksu\n– Lämpimät jalkineet\n– Vedenpitävät jalkineet\n– Toppahousut ja toppatakki\n– Sadevaatteet\n– Villasukkia (vähintään kolme paria)\n– Pipo ja kaulahuivi\n– Vähintään kahdet lämpimät hanskat\n– Aluskerrasto\n– Vaihtovaatteita (alusvaatteita\, sukkia\, housuja\, paitoja …) \nÄlä ota mukaasi puhelinta tai muita elektronisia laitteita.\nJohtajilla on mukanaan puhelimet hätätilanteita varten. \nLeirinjohtaja\nOtto Hyytiälä\n0405843178\notto.hyytiala@toolonsiniset.net
URL:https://toolonsiniset.net/event/talvileiri-ms-tospartto/
ORGANIZER;CN="Otto Hyyti%C3%A4l%C3%A4":MAILTO:otto.hyytiala@toolonsiniset.net
END:VEVENT
END:VCALENDAR